BEGIN:VCALENDAR
VERSION:2.0
PRODID:-//wp-events-plugin.com//7.2.3.1//EN
TZID:Europe/Paris
X-WR-TIMEZONE:Europe/Paris
BEGIN:VEVENT
UID:77@defilenpage.fr
DTSTART;TZID=Europe/Paris:20260314T100000
DTEND;TZID=Europe/Paris:20260314T130000
DTSTAMP:20260225T103132Z
URL:https://defilenpage.fr/events/rencontre-avec-olivier-bauza-et-baloon-d
 ee/
SUMMARY:Rencontre avec Olivier Bauza et Balloon Dee
DESCRIPTION:
ATTACH;FMTTYPE=image/jpeg:https://defilenpage.fr/wp-content/uploads/2026/0
 2/bauza.png
END:VEVENT
BEGIN:VTIMEZONE
TZID:Europe/Paris
X-LIC-LOCATION:Europe/Paris
BEGIN:STANDARD
DTSTART:20251026T020000
TZOFFSETFROM:+0200
TZOFFSETTO:+0100
TZNAME:CET
END:STANDARD
END:VTIMEZONE
END:VCALENDAR