BEGIN:VCALENDAR
VERSION:2.0
PRODID:-//wp-events-plugin.com//7.2.3.1//EN
TZID:Europe/Paris
X-WR-TIMEZONE:Europe/Paris
BEGIN:VEVENT
UID:78@defilenpage.fr
DTSTART;TZID=Europe/Paris:20260321T183000
DTEND;TZID=Europe/Paris:20260321T183000
DTSTAMP:20260307T085521Z
URL:https://defilenpage.fr/events/rencontre-avec-gwenola-ricordeau-a-la-ma
 ison-commune/
SUMMARY:Rencontre avec Gwenola Ricordeau à la Maison commune
DESCRIPTION:\n21 mars\, 18h30\, à la Maison Commune (17 avenue Balard\, Ch
 âteau-Arnoux-Saint-Auban)\, présentation de "Tant qu’il y aura des pri
 sons" aux éditions le passager clandestin en présence de Gwenola Ricorde
 au.\nAvec ce nouveau livre\, Gwenola Ricordeau s'adresse à celles et ceux
  qui pressentent que «la prison n'est pas la solution»\, mais manquent d
 e repères pour formuler une critique construite.\n\n\nSon texte propose u
 ne critique radicale\, mais accessible de l'institution carcérale\, en d
 éconstruisant ses fonctions présumées (punir\, dissuader\, réhabiliter
 \, neutraliser)\, tout en montrant qu'elle produit plus de souffrance et d
 'injustices qu'elle n'en répare. À travers une analyse claire et rigoure
 use\, ainsi que des exemples concrets\, l'autrice y expose les effets dest
 ructeurs de la prison sur les personnes incarcérées\, leurs proches et l
 a société dans son ensemble\, et montre comment cette institution sert l
 es intérêts d'un ordre capitaliste\, raciste et patriarcal.\nSoirée org
 anisée par l’Action Antifasciste Alpes-de-Haute-Provence en partenariat
  avec la librairie.\n
ATTACH;FMTTYPE=image/jpeg:https://defilenpage.fr/wp-content/uploads/2026/0
 3/Insta-Gwenola-scaled.png
END:VEVENT
BEGIN:VTIMEZONE
TZID:Europe/Paris
X-LIC-LOCATION:Europe/Paris
BEGIN:STANDARD
DTSTART:20251026T020000
TZOFFSETFROM:+0200
TZOFFSETTO:+0100
TZNAME:CET
END:STANDARD
END:VTIMEZONE
END:VCALENDAR